BEGIN:VCALENDAR
VERSION:2.0
PRODID:-//Moerse Boys - ECPv6.15.13//NONSGML v1.0//EN
CALSCALE:GREGORIAN
METHOD:PUBLISH
X-WR-CALNAME:Moerse Boys
X-ORIGINAL-URL:https://moerseboys.nl
X-WR-CALDESC:Evenementen voor Moerse Boys
REFRESH-INTERVAL;VALUE=DURATION:PT1H
X-Robots-Tag:noindex
X-PUBLISHED-TTL:PT1H
BEGIN:VTIMEZONE
TZID:Europe/Amsterdam
BEGIN:DAYLIGHT
TZOFFSETFROM:+0100
TZOFFSETTO:+0200
TZNAME:CEST
DTSTART:20250330T010000
END:DAYLIGHT
BEGIN:STANDARD
TZOFFSETFROM:+0200
TZOFFSETTO:+0100
TZNAME:CET
DTSTART:20251026T010000
END:STANDARD
BEGIN:DAYLIGHT
TZOFFSETFROM:+0100
TZOFFSETTO:+0200
TZNAME:CEST
DTSTART:20260329T010000
END:DAYLIGHT
BEGIN:STANDARD
TZOFFSETFROM:+0200
TZOFFSETTO:+0100
TZNAME:CET
DTSTART:20261025T010000
END:STANDARD
BEGIN:DAYLIGHT
TZOFFSETFROM:+0100
TZOFFSETTO:+0200
TZNAME:CEST
DTSTART:20270328T010000
END:DAYLIGHT
BEGIN:STANDARD
TZOFFSETFROM:+0200
TZOFFSETTO:+0100
TZNAME:CET
DTSTART:20271031T010000
END:STANDARD
END:VTIMEZONE
BEGIN:VEVENT
DTSTART;TZID=Europe/Amsterdam:20260603T190000
DTEND;TZID=Europe/Amsterdam:20260603T220000
DTSTAMP:20260424T154041
CREATED:20260418T183102Z
LAST-MODIFIED:20260418T183636Z
UID:59074-1780513200-1780524000@moerseboys.nl
SUMMARY:Midzomer Voetbaltoernooi
DESCRIPTION:Houd jij van voetbal\, zon en gezelligheid?Trommel je vrienden\, collega’s of teamgenoten op en doe mee aan het Midzomer Toernooi bij Moerse Boys!Wij zorgen voor de velden\, een leuke sfeer\, lekkere muziek en een koud drankje en een hapje achteraf.Het is de perfecte manier om het seizoen sportief af te sluiten op de langste dag(en) van het jaar\, zon gegarandeerd 
URL:https://moerseboys.nl/event/midzomer-voetbaltoernooi-moerse-boys/
LOCATION:Sportpark Akkermolen\, Akkermolenweg 11\, Zundert\, 4881 BL
CATEGORIES:Toernooien
ATTACH;FMTTYPE=image/webp:https://moerseboys.nl/wp-content/uploads/2026/04/Midzomervoetbal26.webp
END:VEVENT
BEGIN:VEVENT
DTSTART;TZID=Europe/Amsterdam:20260610T190000
DTEND;TZID=Europe/Amsterdam:20260610T220000
DTSTAMP:20260424T154041
CREATED:20260418T183457Z
LAST-MODIFIED:20260418T183629Z
UID:59078-1781118000-1781128800@moerseboys.nl
SUMMARY:Midzomer Voetbaltoernooi
DESCRIPTION:Houd jij van voetbal\, zon en gezelligheid?Trommel je vrienden\, collega’s of teamgenoten op en doe mee aan het Midzomer Toernooi bij Moerse Boys!Wij zorgen voor de velden\, een leuke sfeer\, lekkere muziek en een koud drankje en een hapje achteraf.Het is de perfecte manier om het seizoen sportief af te sluiten op de langste dag(en) van het jaar\, zon gegarandeerd 
URL:https://moerseboys.nl/event/midzomer-voetbaltoernooi-moerse-boys-2/
LOCATION:Sportpark Akkermolen\, Akkermolenweg 11\, Zundert\, 4881 BL
CATEGORIES:Toernooien
ATTACH;FMTTYPE=image/webp:https://moerseboys.nl/wp-content/uploads/2026/04/Midzomervoetbal26.webp
END:VEVENT
BEGIN:VEVENT
DTSTART;TZID=Europe/Amsterdam:20260617T190000
DTEND;TZID=Europe/Amsterdam:20260617T220000
DTSTAMP:20260424T154041
CREATED:20260418T183529Z
LAST-MODIFIED:20260418T183623Z
UID:59080-1781722800-1781733600@moerseboys.nl
SUMMARY:Midzomer Voetbaltoernooi
DESCRIPTION:Houd jij van voetbal\, zon en gezelligheid?Trommel je vrienden\, collega’s of teamgenoten op en doe mee aan het Midzomer Toernooi bij Moerse Boys!Wij zorgen voor de velden\, een leuke sfeer\, lekkere muziek en een koud drankje en een hapje achteraf.Het is de perfecte manier om het seizoen sportief af te sluiten op de langste dag(en) van het jaar\, zon gegarandeerd 
URL:https://moerseboys.nl/event/midzomer-voetbaltoernooi-moerse-boys-3/
LOCATION:Sportpark Akkermolen\, Akkermolenweg 11\, Zundert\, 4881 BL
CATEGORIES:Toernooien
ATTACH;FMTTYPE=image/webp:https://moerseboys.nl/wp-content/uploads/2026/04/Midzomervoetbal26.webp
END:VEVENT
BEGIN:VEVENT
DTSTART;TZID=Europe/Amsterdam:20260620T120000
DTEND;TZID=Europe/Amsterdam:20260621T120000
DTSTAMP:20260424T154041
CREATED:20250927T175939Z
LAST-MODIFIED:20251115T102751Z
UID:57264-1781956800-1782043200@moerseboys.nl
SUMMARY:Jeugdkamp O8 t/m O11
DESCRIPTION:
URL:https://moerseboys.nl/event/jeugdkamp-o8-t-m-o11/
LOCATION:Sportpark Akkermolen\, Akkermolenweg 11\, Zundert\, 4881 BL
CATEGORIES:Activiteiten
ATTACH;FMTTYPE=image/webp:https://moerseboys.nl/wp-content/uploads/2025/09/IMG-20250621-WA0020.webp
ORGANIZER;CN="Activiteitencommissie Jeugd":MAILTO:acjunioren@moerseboys.nl
END:VEVENT
BEGIN:VEVENT
DTSTART;VALUE=DATE:20260621
DTEND;VALUE=DATE:20260622
DTSTAMP:20260424T154041
CREATED:20260418T183650Z
LAST-MODIFIED:20260418T183650Z
UID:59082-1782000000-1782086399@moerseboys.nl
SUMMARY:Midzomer Voetbaltoernooi Finaledag
DESCRIPTION:Houd jij van voetbal\, zon en gezelligheid?Trommel je vrienden\, collega’s of teamgenoten op en doe mee aan het Midzomer Toernooi bij Moerse Boys!Wij zorgen voor de velden\, een leuke sfeer\, lekkere muziek en een koud drankje en een hapje achteraf.Het is de perfecte manier om het seizoen sportief af te sluiten op de langste dag(en) van het jaar\, zon gegarandeerd 
URL:https://moerseboys.nl/event/midzomer-voetbaltoernooi-moerse-boys-4/
LOCATION:Sportpark Akkermolen\, Akkermolenweg 11\, Zundert\, 4881 BL
CATEGORIES:Toernooien
ATTACH;FMTTYPE=image/webp:https://moerseboys.nl/wp-content/uploads/2026/04/Midzomervoetbal26.webp
END:VEVENT
BEGIN:VEVENT
DTSTART;TZID=Europe/Amsterdam:20260716T090000
DTEND;TZID=Europe/Amsterdam:20260718T150000
DTSTAMP:20260424T154041
CREATED:20251115T104023Z
LAST-MODIFIED:20260227T110639Z
UID:57811-1784192400-1784386800@moerseboys.nl
SUMMARY:NAC Breda Soccer Camp
DESCRIPTION:In de schoolvakantie in 2026 wordt er voor jongens en meisjes in de leeftijdscategorie 6 t/m 15 jaar weer het NAC Breda Soccer Camp op Sportpark Akkermolen georganiseerd. \n\n\n\nWat is het programma? \n\n\n\nTijdens de NAC Breda Soccer Camps staat er een gevarieerd programma centraal\, waarbij de deelnemers verschillende techniek\,- partij\,- en spelvormen zullen uitvoeren. Naast het programma op het veld staan er ook een aantal leuke NAC Breda elementen op het programma\, zoals bijvoorbeeld een nieuwe NAC Breda Voetbalquiz met leuke prijzen. \n\n\n\nHet NAC Breda Soccer Camp is dagelijks van 09.00 uur – 15.00 uur\, de kosten voor deelname aan een 3-daagse bedragen € 199\,- dit is inclusief een NAC Breda Soccer Camps tenue (shirt\, broek en sokken). \n\n\n\nWat kunnen deelnemers verwachten: \n\n\n\n– Een mooi NAC Breda Soccer Camps tenue– Dagelijkse lunch\, tussendoortjes en drinken– Begeleiding van gekwalificeerde trainers– Vernieuwd veld-\, en animatieprogramma \n\n\n\nInschrijven kan al via onderstaande link: \n\n\n\ninschrijven – NAC Breda Soccer Camps \n\n\n\n 
URL:https://moerseboys.nl/event/nac-breda-soccer-camp/
LOCATION:Sportpark Akkermolen\, Akkermolenweg 11\, Zundert\, 4881 BL
CATEGORIES:Activiteiten
ATTACH;FMTTYPE=image/webp:https://moerseboys.nl/wp-content/uploads/2025/11/NAC-25-1.webp
ORGANIZER;CN="NAC Breda":MAILTO:soccercamps@nac.nl
END:VEVENT
BEGIN:VEVENT
DTSTART;VALUE=DATE:20260821
DTEND;VALUE=DATE:20260824
DTSTAMP:20260424T154041
CREATED:20260407T153256Z
LAST-MODIFIED:20260407T153256Z
UID:58970-1787270400-1787529599@moerseboys.nl
SUMMARY:QNP jeugdtoernooi
DESCRIPTION:
URL:https://moerseboys.nl/event/qnp-jeugdtoernooi/
CATEGORIES:Toernooien
ATTACH;FMTTYPE=image/webp:https://moerseboys.nl/wp-content/uploads/2025/08/Jeugdtoernooi-2023_007.webp
ORGANIZER;CN="Toernooicommissie":MAILTO:jeugdtoernooi@moerseboys.nl
END:VEVENT
END:VCALENDAR