BEGIN:VCALENDAR
VERSION:2.0
PRODID:-//Moerse Boys - ECPv6.15.13//NONSGML v1.0//EN
CALSCALE:GREGORIAN
METHOD:PUBLISH
X-ORIGINAL-URL:https://moerseboys.nl
X-WR-CALDESC:Evenementen voor Moerse Boys
REFRESH-INTERVAL;VALUE=DURATION:PT1H
X-Robots-Tag:noindex
X-PUBLISHED-TTL:PT1H
BEGIN:VTIMEZONE
TZID:Europe/Amsterdam
BEGIN:DAYLIGHT
TZOFFSETFROM:+0100
TZOFFSETTO:+0200
TZNAME:CEST
DTSTART:20250330T010000
END:DAYLIGHT
BEGIN:STANDARD
TZOFFSETFROM:+0200
TZOFFSETTO:+0100
TZNAME:CET
DTSTART:20251026T010000
END:STANDARD
BEGIN:DAYLIGHT
TZOFFSETFROM:+0100
TZOFFSETTO:+0200
TZNAME:CEST
DTSTART:20260329T010000
END:DAYLIGHT
BEGIN:STANDARD
TZOFFSETFROM:+0200
TZOFFSETTO:+0100
TZNAME:CET
DTSTART:20261025T010000
END:STANDARD
BEGIN:DAYLIGHT
TZOFFSETFROM:+0100
TZOFFSETTO:+0200
TZNAME:CEST
DTSTART:20270328T010000
END:DAYLIGHT
BEGIN:STANDARD
TZOFFSETFROM:+0200
TZOFFSETTO:+0100
TZNAME:CET
DTSTART:20271031T010000
END:STANDARD
END:VTIMEZONE
BEGIN:VEVENT
DTSTART;TZID=Europe/Amsterdam:20260402T220000
DTEND;TZID=Europe/Amsterdam:20260402T233000
DTSTAMP:20260424T183457
CREATED:20260327T180951Z
LAST-MODIFIED:20260327T180951Z
UID:58954-1775167200-1775172600@moerseboys.nl
SUMMARY:Pub Quiz
DESCRIPTION:Donderdag na de trainging starten we om 22:00 uur met een echte pub quiz in de kantine van Moerse Boys. Voor de alles-weters en de betweters. Doe maar mee!
URL:https://moerseboys.nl/event/pub-quiz/
LOCATION:Kantine Moerse Boys\, Akkermolenweg 11\, Zundert\, 4881 BL\, Netherlands
CATEGORIES:Activiteiten
ATTACH;FMTTYPE=image/webp:https://moerseboys.nl/wp-content/uploads/2026/03/IMG-20260326-WA0003.webp
END:VEVENT
END:VCALENDAR