BEGIN:VCALENDAR
VERSION:2.0
PRODID:-//Moerse Boys - ECPv6.15.13//NONSGML v1.0//EN
CALSCALE:GREGORIAN
METHOD:PUBLISH
X-WR-CALNAME:Moerse Boys
X-ORIGINAL-URL:https://moerseboys.nl
X-WR-CALDESC:Evenementen voor Moerse Boys
REFRESH-INTERVAL;VALUE=DURATION:PT1H
X-Robots-Tag:noindex
X-PUBLISHED-TTL:PT1H
BEGIN:VTIMEZONE
TZID:Europe/Amsterdam
BEGIN:DAYLIGHT
TZOFFSETFROM:+0100
TZOFFSETTO:+0200
TZNAME:CEST
DTSTART:20250330T010000
END:DAYLIGHT
BEGIN:STANDARD
TZOFFSETFROM:+0200
TZOFFSETTO:+0100
TZNAME:CET
DTSTART:20251026T010000
END:STANDARD
BEGIN:DAYLIGHT
TZOFFSETFROM:+0100
TZOFFSETTO:+0200
TZNAME:CEST
DTSTART:20260329T010000
END:DAYLIGHT
BEGIN:STANDARD
TZOFFSETFROM:+0200
TZOFFSETTO:+0100
TZNAME:CET
DTSTART:20261025T010000
END:STANDARD
BEGIN:DAYLIGHT
TZOFFSETFROM:+0100
TZOFFSETTO:+0200
TZNAME:CEST
DTSTART:20270328T010000
END:DAYLIGHT
BEGIN:STANDARD
TZOFFSETFROM:+0200
TZOFFSETTO:+0100
TZNAME:CET
DTSTART:20271031T010000
END:STANDARD
END:VTIMEZONE
BEGIN:VEVENT
DTSTART;VALUE=DATE:20260821
DTEND;VALUE=DATE:20260824
DTSTAMP:20260424T155603
CREATED:20260407T153256Z
LAST-MODIFIED:20260407T153256Z
UID:58970-1787270400-1787529599@moerseboys.nl
SUMMARY:QNP jeugdtoernooi
DESCRIPTION:
URL:https://moerseboys.nl/event/qnp-jeugdtoernooi/
CATEGORIES:Toernooien
ATTACH;FMTTYPE=image/webp:https://moerseboys.nl/wp-content/uploads/2025/08/Jeugdtoernooi-2023_007.webp
ORGANIZER;CN="Toernooicommissie":MAILTO:jeugdtoernooi@moerseboys.nl
END:VEVENT
END:VCALENDAR